BEGIN:VCALENDAR
VERSION:2.0
PRODID:-//SLICE 325 - ECPv6.15.17.1//NONSGML v1.0//EN
CALSCALE:GREGORIAN
METHOD:PUBLISH
X-ORIGINAL-URL:https://slice325.org
X-WR-CALDESC:Events for SLICE 325
REFRESH-INTERVAL;VALUE=DURATION:PT1H
X-Robots-Tag:noindex
X-PUBLISHED-TTL:PT1H
BEGIN:VTIMEZONE
TZID:America/New_York
BEGIN:DAYLIGHT
TZOFFSETFROM:-0500
TZOFFSETTO:-0400
TZNAME:EDT
DTSTART:20250309T070000
END:DAYLIGHT
BEGIN:STANDARD
TZOFFSETFROM:-0400
TZOFFSETTO:-0500
TZNAME:EST
DTSTART:20251102T060000
END:STANDARD
BEGIN:DAYLIGHT
TZOFFSETFROM:-0500
TZOFFSETTO:-0400
TZNAME:EDT
DTSTART:20260308T070000
END:DAYLIGHT
BEGIN:STANDARD
TZOFFSETFROM:-0400
TZOFFSETTO:-0500
TZNAME:EST
DTSTART:20261101T060000
END:STANDARD
BEGIN:DAYLIGHT
TZOFFSETFROM:-0500
TZOFFSETTO:-0400
TZNAME:EDT
DTSTART:20270314T070000
END:DAYLIGHT
BEGIN:STANDARD
TZOFFSETFROM:-0400
TZOFFSETTO:-0500
TZNAME:EST
DTSTART:20271107T060000
END:STANDARD
END:VTIMEZONE
BEGIN:VEVENT
DTSTART;TZID=America/New_York:20260311T130000
DTEND;TZID=America/New_York:20260311T143000
DTSTAMP:20260421T141458
CREATED:20250829T183516Z
LAST-MODIFIED:20260121T200856Z
UID:914-1773234000-1773239400@slice325.org
SUMMARY:Managing Hypertension\, Diabetes & Falls
DESCRIPTION:Location:\n\nView Facility\nRichard H. Thornton Library\n\n\n\nAddress:\n210 Main Street\nOxford\, NC 27565
URL:https://slice325.org/event/managing-hypertension-diabetes-falls/
END:VEVENT
BEGIN:VEVENT
DTSTART;TZID=America/New_York:20260409T110000
DTEND;TZID=America/New_York:20260409T133000
DTSTAMP:20260421T141458
CREATED:20260106T213310Z
LAST-MODIFIED:20260106T213310Z
UID:22079-1775732400-1775741400@slice325.org
SUMMARY:Speaking at Fuquay Varina Rotary Club
DESCRIPTION:
URL:https://slice325.org/event/speaking-at-fuquay-varina-rotary-club/
END:VEVENT
BEGIN:VEVENT
DTSTART;TZID=America/New_York:20260421T130000
DTEND;TZID=America/New_York:20260421T140000
DTSTAMP:20260421T141458
CREATED:20250829T181702Z
LAST-MODIFIED:20250829T181702Z
UID:912-1776776400-1776780000@slice325.org
SUMMARY:Pasta Making
DESCRIPTION:Location:\n\nView Facility\nRichard H. Thornton Library\n\n\n\nAddress:\n210 Main Street\nOxford\, NC 27565
URL:https://slice325.org/event/pasta-making/
END:VEVENT
BEGIN:VEVENT
DTSTART;TZID=America/New_York:20260725T110000
DTEND;TZID=America/New_York:20260725T150000
DTSTAMP:20260421T141458
CREATED:20260204T135946Z
LAST-MODIFIED:20260204T135946Z
UID:26927-1784977200-1784991600@slice325.org
SUMMARY:South Carolina Book Lovers Expo
DESCRIPTION:South Carolina Book Lovers Expo \nJuly 25\, 2026 11:00 AM – 3:00 PM \nPhillips Market Center 117 Ballard Ct\, West Columbia\, SC 29172 \nSouth Carolina’s biggest celebration of books is here! We’re delighted to see readers\, authors\, and book enthusiasts join us at this year’s South Carolina Book Lovers Expo. Your participation is what makes this event vibrant and meaningful\, and we’re grateful for your support in inviting others. Let’s unite for a love of reading\, boost literacy\, and make memories together. \nbbpcevents.com \n 
URL:https://slice325.org/event/south-carolina-book-lovers-expo/
END:VEVENT
END:VCALENDAR