BEGIN:VCALENDAR
VERSION:2.0
PRODID:-//SLICE 325 - ECPv6.15.17.1//NONSGML v1.0//EN
CALSCALE:GREGORIAN
METHOD:PUBLISH
X-WR-CALNAME:SLICE 325
X-ORIGINAL-URL:https://slice325.org
X-WR-CALDESC:Events for SLICE 325
REFRESH-INTERVAL;VALUE=DURATION:PT1H
X-Robots-Tag:noindex
X-PUBLISHED-TTL:PT1H
BEGIN:VTIMEZONE
TZID:America/New_York
BEGIN:DAYLIGHT
TZOFFSETFROM:-0500
TZOFFSETTO:-0400
TZNAME:EDT
DTSTART:20210314T070000
END:DAYLIGHT
BEGIN:STANDARD
TZOFFSETFROM:-0400
TZOFFSETTO:-0500
TZNAME:EST
DTSTART:20211107T060000
END:STANDARD
BEGIN:DAYLIGHT
TZOFFSETFROM:-0500
TZOFFSETTO:-0400
TZNAME:EDT
DTSTART:20220313T070000
END:DAYLIGHT
BEGIN:STANDARD
TZOFFSETFROM:-0400
TZOFFSETTO:-0500
TZNAME:EST
DTSTART:20221106T060000
END:STANDARD
BEGIN:DAYLIGHT
TZOFFSETFROM:-0500
TZOFFSETTO:-0400
TZNAME:EDT
DTSTART:20230312T070000
END:DAYLIGHT
BEGIN:STANDARD
TZOFFSETFROM:-0400
TZOFFSETTO:-0500
TZNAME:EST
DTSTART:20231105T060000
END:STANDARD
END:VTIMEZONE
BEGIN:VEVENT
DTSTART;TZID=America/New_York:20220226T170000
DTEND;TZID=America/New_York:20220226T180000
DTSTAMP:20260421T131235
CREATED:20220201T211747Z
LAST-MODIFIED:20220201T214808Z
UID:287-1645894800-1645898400@slice325.org
SUMMARY:SLICE 325 Volunteer Community Garden Help Q&A
DESCRIPTION:Its that time aging; We are ready to start planting! We would love your help. This is a Q&A about what kind of help we would need this year. \nCommunity Garden Coordinator/Leader Volunteer\nGarden Maintenance Volunteers\nDetails can be found on  Slice 325 Volunteer Opportunities | VolunteerMatch \nHope to see you on our zoom! \n 
URL:https://slice325.org/event/slice-325-volunteer-community-garden-help-qa/
LOCATION:NC
ORGANIZER;CN="Shemecka McNei":MAILTO:Shemecka McNeil
END:VEVENT
BEGIN:VEVENT
DTSTART;TZID=America/New_York:20220217T120000
DTEND;TZID=America/New_York:20220217T130000
DTSTAMP:20260421T131235
CREATED:20220126T184130Z
LAST-MODIFIED:20220126T185444Z
UID:272-1645099200-1645102800@slice325.org
SUMMARY:Charlie Cart Classes
DESCRIPTION:Hope to see you soon! \n \n  \n  \n  \nSpace is limited due to COVID-19 precautions. Please feel free to join our Zoom meeting. \nZoom link: \nhttps://us02web.zoom.us/j/86780442069?pwd=NUlpMjU0S2VtRmZBRDR6OXpNY2VFZz09 \n 
URL:https://slice325.org/event/charlie-cart-classes-2/
LOCATION:Perry Memorial\, 205 Breckenridge St\, Henderson\, NC\, 27536\, United States
END:VEVENT
BEGIN:VEVENT
DTSTART;TZID=America/New_York:20220210T120000
DTEND;TZID=America/New_York:20220210T130000
DTSTAMP:20260421T131235
CREATED:20220126T183512Z
LAST-MODIFIED:20220126T185214Z
UID:269-1644494400-1644498000@slice325.org
SUMMARY:Charlie Cart Classes
DESCRIPTION:Hope to see you soon! \n \nSpace is limited due to COVID-19 precautions. Please feel free to join our Zoom meeting. \nZoom link: \nhttps://us02web.zoom.us/j/86780442069?pwd=NUlpMjU0S2VtRmZBRDR6OXpNY2VFZz09 \n 
URL:https://slice325.org/event/charlie-cart-classes/
LOCATION:Perry Memorial\, 205 Breckenridge St\, Henderson\, NC\, 27536\, United States
END:VEVENT
BEGIN:VEVENT
DTSTART;TZID=America/New_York:20220203T120000
DTEND;TZID=America/New_York:20220203T130000
DTSTAMP:20260421T131235
CREATED:20220126T182804Z
LAST-MODIFIED:20220126T185313Z
UID:257-1643889600-1643893200@slice325.org
SUMMARY:Charlie Cart Classes
DESCRIPTION:Hope to see you soon! \n \nSpace is limited due to COVID-19 precautions. Please feel free to join our Zoom meeting. \nZoom link: \nhttps://us02web.zoom.us/j/86780442069?pwd=NUlpMjU0S2VtRmZBRDR6OXpNY2VFZz09 \n  \n 
URL:https://slice325.org/event/slice-325-charlie-cart-classes/
LOCATION:Perry Memorial\, 205 Breckenridge St\, Henderson\, NC\, 27536\, United States
END:VEVENT
END:VCALENDAR